
BEGIN:VCALENDAR
VERSION:2.0
PRODID:-//Get Hiroshima - ECPv6.15.20//NONSGML v1.0//EN
CALSCALE:GREGORIAN
METHOD:PUBLISH
X-WR-CALNAME:Get Hiroshima
X-ORIGINAL-URL:https://gethiroshima.com
X-WR-CALDESC:Events for Get Hiroshima
REFRESH-INTERVAL;VALUE=DURATION:PT1H
X-Robots-Tag:noindex
X-PUBLISHED-TTL:PT1H
BEGIN:VTIMEZONE
TZID:Asia/Tokyo
BEGIN:STANDARD
TZOFFSETFROM:+0900
TZOFFSETTO:+0900
TZNAME:JST
DTSTART:20160101T000000
END:STANDARD
END:VTIMEZONE
BEGIN:VEVENT
DTSTART;VALUE=DATE:20200208
DTEND;VALUE=DATE:20200218
DTSTAMP:20260419T231949
CREATED:20200120T083054Z
LAST-MODIFIED:20200120T083054Z
UID:10006776-1581141600-1581919199@gethiroshima.com
SUMMARY:HPAR 2020: Exhibition of art by people with disabilities
DESCRIPTION:Local special needs school\, Hull Pong\, hosts an exhibition for artworks created by people with disabilities. \n \n \nAdmission: Free\nOpen: 10:30 (11:00 on the first day) – 18:30\nSponsors: Hiroshima City / Certified NPO Corporation Community Leader Hull Pong
URL:https://gethiroshima.com/event/hpar-2020/
LOCATION:Machizukuri Shimin Koryu Plaza\, 6-36 Fukuromachi\, Naka-ku\, Hiroshima-shi\, Hiroshima-ken\, 730-0036\, Japan
CATEGORIES:Art,Community
ATTACH;FMTTYPE=image/jpeg:https://gethiroshima.com/wp-content/uploads/2020/01/HPAR-2020.jpg
GEO:34.391794;132.4584228
X-APPLE-STRUCTURED-LOCATION;VALUE=URI;X-ADDRESS=Machizukuri Shimin Koryu Plaza 6-36 Fukuromachi Naka-ku Hiroshima-shi Hiroshima-ken 730-0036 Japan;X-APPLE-RADIUS=500;X-TITLE=6-36 Fukuromachi\, Naka-ku:geo:132.4584228,34.391794
END:VEVENT
BEGIN:VEVENT
DTSTART;TZID=Asia/Tokyo:20170306T100000
DTEND;TZID=Asia/Tokyo:20170306T170000
DTSTAMP:20260419T231949
CREATED:20170211T011451Z
LAST-MODIFIED:20170211T011451Z
UID:10005016-1488794400-1488819600@gethiroshima.com
SUMMARY:International Students Visual Arts Exhibit
DESCRIPTION:The Hiroshima International School Grade 12 students will be presenting their artwork to the public at the Hitomachi Plaza (Machizukuri plaza) next to Fukuromachi school from March 3rd to March 5th. Free entry to the public from 10am to 5pm each day. \nArtwork by Reiko Ishiyama\, Youki Kotani\, Vivica Daniel\, Ray Katsumi and Erika Kodama. The student artists will be introducing their artwork to visitors.
URL:https://gethiroshima.com/event/international-students-visual-arts-exhibit/2017-03-06/
LOCATION:Machizukuri Shimin Koryu Plaza\, 6-36 Fukuromachi\, Naka-ku\, Hiroshima-shi\, Hiroshima-ken\, 730-0036\, Japan
CATEGORIES:Art,Free,Top
ATTACH;FMTTYPE=image/jpeg:https://gethiroshima.com/wp-content/uploads/2017/02/16601849_1209836382405100_3585806634107222518_o.jpg
GEO:34.391794;132.4584228
X-APPLE-STRUCTURED-LOCATION;VALUE=URI;X-ADDRESS=Machizukuri Shimin Koryu Plaza 6-36 Fukuromachi Naka-ku Hiroshima-shi Hiroshima-ken 730-0036 Japan;X-APPLE-RADIUS=500;X-TITLE=6-36 Fukuromachi\, Naka-ku:geo:132.4584228,34.391794
END:VEVENT
BEGIN:VEVENT
DTSTART;TZID=Asia/Tokyo:20170305T100000
DTEND;TZID=Asia/Tokyo:20170305T170000
DTSTAMP:20260419T231949
CREATED:20170211T011451Z
LAST-MODIFIED:20170211T011451Z
UID:10005015-1488708000-1488733200@gethiroshima.com
SUMMARY:International Students Visual Arts Exhibit
DESCRIPTION:The Hiroshima International School Grade 12 students will be presenting their artwork to the public at the Hitomachi Plaza (Machizukuri plaza) next to Fukuromachi school from March 3rd to March 5th. Free entry to the public from 10am to 5pm each day. \nArtwork by Reiko Ishiyama\, Youki Kotani\, Vivica Daniel\, Ray Katsumi and Erika Kodama. The student artists will be introducing their artwork to visitors.
URL:https://gethiroshima.com/event/international-students-visual-arts-exhibit/2017-03-05/
LOCATION:Machizukuri Shimin Koryu Plaza\, 6-36 Fukuromachi\, Naka-ku\, Hiroshima-shi\, Hiroshima-ken\, 730-0036\, Japan
CATEGORIES:Art,Free,Top
ATTACH;FMTTYPE=image/jpeg:https://gethiroshima.com/wp-content/uploads/2017/02/16601849_1209836382405100_3585806634107222518_o.jpg
GEO:34.391794;132.4584228
X-APPLE-STRUCTURED-LOCATION;VALUE=URI;X-ADDRESS=Machizukuri Shimin Koryu Plaza 6-36 Fukuromachi Naka-ku Hiroshima-shi Hiroshima-ken 730-0036 Japan;X-APPLE-RADIUS=500;X-TITLE=6-36 Fukuromachi\, Naka-ku:geo:132.4584228,34.391794
END:VEVENT
BEGIN:VEVENT
DTSTART;TZID=Asia/Tokyo:20170304T100000
DTEND;TZID=Asia/Tokyo:20170304T170000
DTSTAMP:20260419T231949
CREATED:20170211T011451Z
LAST-MODIFIED:20170211T011451Z
UID:10005014-1488621600-1488646800@gethiroshima.com
SUMMARY:International Students Visual Arts Exhibit
DESCRIPTION:The Hiroshima International School Grade 12 students will be presenting their artwork to the public at the Hitomachi Plaza (Machizukuri plaza) next to Fukuromachi school from March 3rd to March 5th. Free entry to the public from 10am to 5pm each day. \nArtwork by Reiko Ishiyama\, Youki Kotani\, Vivica Daniel\, Ray Katsumi and Erika Kodama. The student artists will be introducing their artwork to visitors.
URL:https://gethiroshima.com/event/international-students-visual-arts-exhibit/2017-03-04/
LOCATION:Machizukuri Shimin Koryu Plaza\, 6-36 Fukuromachi\, Naka-ku\, Hiroshima-shi\, Hiroshima-ken\, 730-0036\, Japan
CATEGORIES:Art,Free,Top
ATTACH;FMTTYPE=image/jpeg:https://gethiroshima.com/wp-content/uploads/2017/02/16601849_1209836382405100_3585806634107222518_o.jpg
GEO:34.391794;132.4584228
X-APPLE-STRUCTURED-LOCATION;VALUE=URI;X-ADDRESS=Machizukuri Shimin Koryu Plaza 6-36 Fukuromachi Naka-ku Hiroshima-shi Hiroshima-ken 730-0036 Japan;X-APPLE-RADIUS=500;X-TITLE=6-36 Fukuromachi\, Naka-ku:geo:132.4584228,34.391794
END:VEVENT
BEGIN:VEVENT
DTSTART;TZID=Asia/Tokyo:20170303T100000
DTEND;TZID=Asia/Tokyo:20170303T170000
DTSTAMP:20260419T231949
CREATED:20170211T011451Z
LAST-MODIFIED:20170211T011451Z
UID:10005013-1488535200-1488560400@gethiroshima.com
SUMMARY:International Students Visual Arts Exhibit
DESCRIPTION:The Hiroshima International School Grade 12 students will be presenting their artwork to the public at the Hitomachi Plaza (Machizukuri plaza) next to Fukuromachi school from March 3rd to March 5th. Free entry to the public from 10am to 5pm each day. \nArtwork by Reiko Ishiyama\, Youki Kotani\, Vivica Daniel\, Ray Katsumi and Erika Kodama. The student artists will be introducing their artwork to visitors.
URL:https://gethiroshima.com/event/international-students-visual-arts-exhibit/2017-03-03/
LOCATION:Machizukuri Shimin Koryu Plaza\, 6-36 Fukuromachi\, Naka-ku\, Hiroshima-shi\, Hiroshima-ken\, 730-0036\, Japan
CATEGORIES:Art,Free,Top
ATTACH;FMTTYPE=image/jpeg:https://gethiroshima.com/wp-content/uploads/2017/02/16601849_1209836382405100_3585806634107222518_o.jpg
GEO:34.391794;132.4584228
X-APPLE-STRUCTURED-LOCATION;VALUE=URI;X-ADDRESS=Machizukuri Shimin Koryu Plaza 6-36 Fukuromachi Naka-ku Hiroshima-shi Hiroshima-ken 730-0036 Japan;X-APPLE-RADIUS=500;X-TITLE=6-36 Fukuromachi\, Naka-ku:geo:132.4584228,34.391794
END:VEVENT
END:VCALENDAR